BEGIN:VCALENDAR
VERSION:2.0
PRODID:-//North Carolina Pro Bono Resource Center - ECPv6.15.11//NONSGML v1.0//EN
CALSCALE:GREGORIAN
METHOD:PUBLISH
X-WR-CALNAME:North Carolina Pro Bono Resource Center
X-ORIGINAL-URL:https://ncprobono.org
X-WR-CALDESC:Events for North Carolina Pro Bono Resource Center
REFRESH-INTERVAL;VALUE=DURATION:PT1H
X-Robots-Tag:noindex
X-PUBLISHED-TTL:PT1H
BEGIN:VTIMEZONE
TZID:America/New_York
BEGIN:DAYLIGHT
TZOFFSETFROM:-0500
TZOFFSETTO:-0400
TZNAME:EDT
DTSTART:20210314T070000
END:DAYLIGHT
BEGIN:STANDARD
TZOFFSETFROM:-0400
TZOFFSETTO:-0500
TZNAME:EST
DTSTART:20211107T060000
END:STANDARD
BEGIN:DAYLIGHT
TZOFFSETFROM:-0500
TZOFFSETTO:-0400
TZNAME:EDT
DTSTART:20220313T070000
END:DAYLIGHT
BEGIN:STANDARD
TZOFFSETFROM:-0400
TZOFFSETTO:-0500
TZNAME:EST
DTSTART:20221106T060000
END:STANDARD
BEGIN:DAYLIGHT
TZOFFSETFROM:-0500
TZOFFSETTO:-0400
TZNAME:EDT
DTSTART:20230312T070000
END:DAYLIGHT
BEGIN:STANDARD
TZOFFSETFROM:-0400
TZOFFSETTO:-0500
TZNAME:EST
DTSTART:20231105T060000
END:STANDARD
END:VTIMEZONE
BEGIN:VEVENT
DTSTART;TZID=America/New_York:20220204T120000
DTEND;TZID=America/New_York:20220204T133000
DTSTAMP:20260422T001138
CREATED:20220131T172134Z
LAST-MODIFIED:20220214T210913Z
UID:10000069-1643976000-1643981400@ncprobono.org
SUMMARY:Housing Stability Project Weekly Training & Live Q&A Session
DESCRIPTION:The Housing Stability Project Managers will now host a weekly live Zoom on Fridays at noon to show the project training video and volunteer portal training video as well as conduct a live Q&A session.  Volunteers can log in at any time based on the schedule below. \n  \n12:00 p.m. to 12:40 p.m. – Project Training Video \n12:40 p.m. to 1:00 p.m. – Volunteer Portal Training Video \n1:00 p.m. to 1:30 p.m. – Live Q&A \n  \nIf you have not already registered as a volunteer\, please do so here. https://housing.ncprobono.org/volunteer-registration \n  \nJoin Zoom Meeting \nhttps://us06web.zoom.us/j/81289615650?pwd=Nlg5SnJSd015OENlYlEybWorbVpCQT09 \nMeeting ID: 812 8961 5650 \nPasscode: 857503 \nDial by your location \n+1 301 715 8592 US (Washington DC) \n+1 312 626 6799 US (Chicago) \n+1 646 558 8656 US (New York) \n+1 253 215 8782 US (Tacoma) \n+1 346 248 7799 US (Houston) \n+1 720 707 2699 US (Denver) \nMeeting ID: 812 8961 5650 \nPasscode: 857503 \n  \n 
URL:https://ncprobono.org/event/housing-stability-project-weekly-video-training-and-live-question-answer-session/2022-02-04/
CATEGORIES:All Events,Client Advice and Counseling,Client Intake and Interviewing,Community Engagement and Education,Ethics & Pro Bono,Housing Stability,Legal Issue Specific,Mediation and ADR,Pro Bono Project Specific,Training Event
ORGANIZER;CN="NC Pro Bono Resource Center":MAILTO:staff@ncprobono.org
END:VEVENT
BEGIN:VEVENT
DTSTART;TZID=America/New_York:20220204T130000
DTEND;TZID=America/New_York:20220204T160000
DTSTAMP:20260422T001138
CREATED:20220214T211050Z
LAST-MODIFIED:20220214T211050Z
UID:10000081-1643979600-1643990400@ncprobono.org
SUMMARY:Driver's License Restoration Advice Letter CLE & Pro Bono Clinic with Mayer Brown\, LLP
DESCRIPTION:The Pro Bono Resource Center Driver’s License Restoration team will partner with Mayer Brown\, LLP for the first time for a CLE and pro bono advice letter clinic.
URL:https://ncprobono.org/event/drivers-license-restoration-advice-letter-cle-pro-bono-clinic-with-mayer-brown-llp/
CATEGORIES:All Events,Client Advice and Counseling,Community Engagement and Education,Document Drafting,Driver's License,Ethics & Pro Bono,Legal Issue Specific,Pro Bono Clinic,Pro Bono Project Specific,Statutory Interpretation and Advocacy,Training Event
END:VEVENT
BEGIN:VEVENT
DTSTART;TZID=America/New_York:20220211T120000
DTEND;TZID=America/New_York:20220211T133000
DTSTAMP:20260422T001138
CREATED:20220131T172134Z
LAST-MODIFIED:20220214T210913Z
UID:10000070-1644580800-1644586200@ncprobono.org
SUMMARY:Housing Stability Project Weekly Training & Live Q&A Session
DESCRIPTION:The Housing Stability Project Managers will now host a weekly live Zoom on Fridays at noon to show the project training video and volunteer portal training video as well as conduct a live Q&A session.  Volunteers can log in at any time based on the schedule below. \n  \n12:00 p.m. to 12:40 p.m. – Project Training Video \n12:40 p.m. to 1:00 p.m. – Volunteer Portal Training Video \n1:00 p.m. to 1:30 p.m. – Live Q&A \n  \nIf you have not already registered as a volunteer\, please do so here. https://housing.ncprobono.org/volunteer-registration \n  \nJoin Zoom Meeting \nhttps://us06web.zoom.us/j/81289615650?pwd=Nlg5SnJSd015OENlYlEybWorbVpCQT09 \nMeeting ID: 812 8961 5650 \nPasscode: 857503 \nDial by your location \n+1 301 715 8592 US (Washington DC) \n+1 312 626 6799 US (Chicago) \n+1 646 558 8656 US (New York) \n+1 253 215 8782 US (Tacoma) \n+1 346 248 7799 US (Houston) \n+1 720 707 2699 US (Denver) \nMeeting ID: 812 8961 5650 \nPasscode: 857503 \n  \n 
URL:https://ncprobono.org/event/housing-stability-project-weekly-video-training-and-live-question-answer-session/2022-02-11/
CATEGORIES:All Events,Client Advice and Counseling,Client Intake and Interviewing,Community Engagement and Education,Ethics & Pro Bono,Housing Stability,Legal Issue Specific,Mediation and ADR,Pro Bono Project Specific,Training Event
ORGANIZER;CN="NC Pro Bono Resource Center":MAILTO:staff@ncprobono.org
END:VEVENT
BEGIN:VEVENT
DTSTART;TZID=America/New_York:20220214T000000
DTEND;TZID=America/New_York:20220214T000000
DTSTAMP:20260422T001138
CREATED:20180515T191333Z
LAST-MODIFIED:20220214T214422Z
UID:10000002-1644796800-1644796800@ncprobono.org
SUMMARY:Representing the Pro Bono Client: Consumer Law Basics 2018
DESCRIPTION:NOTE: Training is scheduled for 9 am PST/ 12 pm EST. Attorneys must apply for CLE credit in NC.\nWhy You Should Attend\nVolunteer lawyers are needed to help the many low income clients facing a wide assortment of consumer law matters who are unrepresented. Attend this program to learn the basics of consumer law so that you can competently represent a client in need and learn new advocacy skills. \nWhat You Will Learn\n• Introduction to Fair Credit Reporting Act\n• Overview of State and Federal Restraints on Debt Collection\n• A Primer on Automobile Fraud\n• Representing the Unsecured Debtor\n• Mortgage Servicer Litigation\n• Assisting Student Loan Borrowers\n• Developing a Working Relationship with Legal Services Organizations \nWho Should Attend\nAttorneys who want to volunteer to help low income clients with consumer related issues and legal services advocates who want to enhance their skills in consumer litigation matters would benefit from attending this program.
URL:https://ncprobono.org/event/representing-the-pro-bono-client-consumer-law-basics-2018/
LOCATION:Online Training from San Francisco\, NC\, US
CATEGORIES:All Events,Training Event
GEO:35.7595731;-79.0192997
END:VEVENT
BEGIN:VEVENT
DTSTART;TZID=America/New_York:20220217T093000
DTEND;TZID=America/New_York:20220217T123000
DTSTAMP:20260422T001138
CREATED:20220214T211024Z
LAST-MODIFIED:20220214T211024Z
UID:10000080-1645090200-1645101000@ncprobono.org
SUMMARY:Driver's License Restoration Advice Letter CLE & Pro Bono Clinic with the NCBA Corporate Counsel Section
DESCRIPTION:The Driver’s License Restoration Team will partner with the NCBA Corporate Counsel Section for a CLE and pro bono advice letter session.
URL:https://ncprobono.org/event/drivers-license-restoration-advice-letter-cle-pro-bono-clinic-with-the-ncba-corporate-counsel-section/
CATEGORIES:All Events,Community Engagement and Education,Document Drafting,Driver's License,Ethics & Pro Bono,Legal Issue Specific,Pro Bono Clinic,Pro Bono Project Specific,Statutory Interpretation and Advocacy,Training Event
END:VEVENT
BEGIN:VEVENT
DTSTART;TZID=America/New_York:20220218T120000
DTEND;TZID=America/New_York:20220218T133000
DTSTAMP:20260422T001138
CREATED:20220131T172134Z
LAST-MODIFIED:20220214T210913Z
UID:10000071-1645185600-1645191000@ncprobono.org
SUMMARY:Housing Stability Project Weekly Training & Live Q&A Session
DESCRIPTION:The Housing Stability Project Managers will now host a weekly live Zoom on Fridays at noon to show the project training video and volunteer portal training video as well as conduct a live Q&A session.  Volunteers can log in at any time based on the schedule below. \n  \n12:00 p.m. to 12:40 p.m. – Project Training Video \n12:40 p.m. to 1:00 p.m. – Volunteer Portal Training Video \n1:00 p.m. to 1:30 p.m. – Live Q&A \n  \nIf you have not already registered as a volunteer\, please do so here. https://housing.ncprobono.org/volunteer-registration \n  \nJoin Zoom Meeting \nhttps://us06web.zoom.us/j/81289615650?pwd=Nlg5SnJSd015OENlYlEybWorbVpCQT09 \nMeeting ID: 812 8961 5650 \nPasscode: 857503 \nDial by your location \n+1 301 715 8592 US (Washington DC) \n+1 312 626 6799 US (Chicago) \n+1 646 558 8656 US (New York) \n+1 253 215 8782 US (Tacoma) \n+1 346 248 7799 US (Houston) \n+1 720 707 2699 US (Denver) \nMeeting ID: 812 8961 5650 \nPasscode: 857503 \n  \n 
URL:https://ncprobono.org/event/housing-stability-project-weekly-video-training-and-live-question-answer-session/2022-02-18/
CATEGORIES:All Events,Client Advice and Counseling,Client Intake and Interviewing,Community Engagement and Education,Ethics & Pro Bono,Housing Stability,Legal Issue Specific,Mediation and ADR,Pro Bono Project Specific,Training Event
ORGANIZER;CN="NC Pro Bono Resource Center":MAILTO:staff@ncprobono.org
END:VEVENT
BEGIN:VEVENT
DTSTART;TZID=America/New_York:20220225T120000
DTEND;TZID=America/New_York:20220225T133000
DTSTAMP:20260422T001138
CREATED:20220131T172134Z
LAST-MODIFIED:20220214T210913Z
UID:10000072-1645790400-1645795800@ncprobono.org
SUMMARY:Housing Stability Project Weekly Training & Live Q&A Session
DESCRIPTION:The Housing Stability Project Managers will now host a weekly live Zoom on Fridays at noon to show the project training video and volunteer portal training video as well as conduct a live Q&A session.  Volunteers can log in at any time based on the schedule below. \n  \n12:00 p.m. to 12:40 p.m. – Project Training Video \n12:40 p.m. to 1:00 p.m. – Volunteer Portal Training Video \n1:00 p.m. to 1:30 p.m. – Live Q&A \n  \nIf you have not already registered as a volunteer\, please do so here. https://housing.ncprobono.org/volunteer-registration \n  \nJoin Zoom Meeting \nhttps://us06web.zoom.us/j/81289615650?pwd=Nlg5SnJSd015OENlYlEybWorbVpCQT09 \nMeeting ID: 812 8961 5650 \nPasscode: 857503 \nDial by your location \n+1 301 715 8592 US (Washington DC) \n+1 312 626 6799 US (Chicago) \n+1 646 558 8656 US (New York) \n+1 253 215 8782 US (Tacoma) \n+1 346 248 7799 US (Houston) \n+1 720 707 2699 US (Denver) \nMeeting ID: 812 8961 5650 \nPasscode: 857503 \n  \n 
URL:https://ncprobono.org/event/housing-stability-project-weekly-video-training-and-live-question-answer-session/2022-02-25/
CATEGORIES:All Events,Client Advice and Counseling,Client Intake and Interviewing,Community Engagement and Education,Ethics & Pro Bono,Housing Stability,Legal Issue Specific,Mediation and ADR,Pro Bono Project Specific,Training Event
ORGANIZER;CN="NC Pro Bono Resource Center":MAILTO:staff@ncprobono.org
END:VEVENT
END:VCALENDAR