BEGIN:VCALENDAR
VERSION:2.0
PRODID:-//North Carolina Pro Bono Resource Center - ECPv6.15.11//NONSGML v1.0//EN
CALSCALE:GREGORIAN
METHOD:PUBLISH
X-ORIGINAL-URL:https://ncprobono.org
X-WR-CALDESC:Events for North Carolina Pro Bono Resource Center
REFRESH-INTERVAL;VALUE=DURATION:PT1H
X-Robots-Tag:noindex
X-PUBLISHED-TTL:PT1H
BEGIN:VTIMEZONE
TZID:America/New_York
BEGIN:DAYLIGHT
TZOFFSETFROM:-0500
TZOFFSETTO:-0400
TZNAME:EDT
DTSTART:20210314T070000
END:DAYLIGHT
BEGIN:STANDARD
TZOFFSETFROM:-0400
TZOFFSETTO:-0500
TZNAME:EST
DTSTART:20211107T060000
END:STANDARD
BEGIN:DAYLIGHT
TZOFFSETFROM:-0500
TZOFFSETTO:-0400
TZNAME:EDT
DTSTART:20220313T070000
END:DAYLIGHT
BEGIN:STANDARD
TZOFFSETFROM:-0400
TZOFFSETTO:-0500
TZNAME:EST
DTSTART:20221106T060000
END:STANDARD
BEGIN:DAYLIGHT
TZOFFSETFROM:-0500
TZOFFSETTO:-0400
TZNAME:EDT
DTSTART:20230312T070000
END:DAYLIGHT
BEGIN:STANDARD
TZOFFSETFROM:-0400
TZOFFSETTO:-0500
TZNAME:EST
DTSTART:20231105T060000
END:STANDARD
END:VTIMEZONE
BEGIN:VEVENT
DTSTART;TZID=America/New_York:20220120T120000
DTEND;TZID=America/New_York:20220120T130000
DTSTAMP:20260421T224503
CREATED:20220105T200519Z
LAST-MODIFIED:20220214T211118Z
UID:10000083-1642680000-1642683600@ncprobono.org
SUMMARY:Pro Bono in the Virtual World: Real World Examples & Lessons Learned
DESCRIPTION:Please join the North Carolina Pro Bono Resource Center for Pro Bono in the Virtual World: Real World Examples & Lessons Learned\, a free one-hour Tech CLE program. Program details and registration form follows: \nThursday\, January 20\, 2022\n12:00-1:00 PM Via Live Webcast \nRegister here: https://ncprobono.org/cle/ \nWhile this CLE is provided free of charge\, program attendees will be responsible for paying for their own CLE fees to their respective licensure organizations.
URL:https://ncprobono.org/event/pro-bono-in-the-virtual-world-real-world-examples-lessons-learned/
LOCATION:Live webcast\, NC\, US
CATEGORIES:All Events,Regular Event,Training Event
ORGANIZER;CN="NC Pro Bono Resource Center":MAILTO:staff@ncprobono.org
END:VEVENT
END:VCALENDAR