BEGIN:VCALENDAR
VERSION:2.0
PRODID:-//North Carolina Pro Bono Resource Center - ECPv6.15.11//NONSGML v1.0//EN
CALSCALE:GREGORIAN
METHOD:PUBLISH
X-ORIGINAL-URL:https://ncprobono.org
X-WR-CALDESC:Events for North Carolina Pro Bono Resource Center
REFRESH-INTERVAL;VALUE=DURATION:PT1H
X-Robots-Tag:noindex
X-PUBLISHED-TTL:PT1H
BEGIN:VTIMEZONE
TZID:America/New_York
BEGIN:DAYLIGHT
TZOFFSETFROM:-0500
TZOFFSETTO:-0400
TZNAME:EDT
DTSTART:20180311T070000
END:DAYLIGHT
BEGIN:STANDARD
TZOFFSETFROM:-0400
TZOFFSETTO:-0500
TZNAME:EST
DTSTART:20181104T060000
END:STANDARD
BEGIN:DAYLIGHT
TZOFFSETFROM:-0500
TZOFFSETTO:-0400
TZNAME:EDT
DTSTART:20190310T070000
END:DAYLIGHT
BEGIN:STANDARD
TZOFFSETFROM:-0400
TZOFFSETTO:-0500
TZNAME:EST
DTSTART:20191103T060000
END:STANDARD
BEGIN:DAYLIGHT
TZOFFSETFROM:-0500
TZOFFSETTO:-0400
TZNAME:EDT
DTSTART:20200308T070000
END:DAYLIGHT
BEGIN:STANDARD
TZOFFSETFROM:-0400
TZOFFSETTO:-0500
TZNAME:EST
DTSTART:20201101T060000
END:STANDARD
END:VTIMEZONE
BEGIN:VEVENT
DTSTART;TZID=America/New_York:20190731T090000
DTEND;TZID=America/New_York:20190731T120000
DTSTAMP:20260421T181521
CREATED:20190610T142650Z
LAST-MODIFIED:20220214T211142Z
UID:10000084-1564563600-1564574400@ncprobono.org
SUMMARY:Serving on a Nonprofit Board 2019: Practical and Ethical Considerations for Attorneys
DESCRIPTION:Joining a nonprofit board can be one of the most rewarding experiences of an attorney’s career. This program will provide practical tips and review important ethical considerations for attorneys currently serving on nonprofit boards or thinking about joining a nonprofit board
URL:https://ncprobono.org/event/serving-on-a-nonprofit-board-2019-practical-and-ethical-considerations-for-attorneys/
LOCATION:Online Training- No Venue\, NC\, US
CATEGORIES:All Events,Training Event
END:VEVENT
END:VCALENDAR