BEGIN:VCALENDAR
VERSION:2.0
PRODID:-//North Carolina Pro Bono Resource Center - ECPv6.15.11//NONSGML v1.0//EN
CALSCALE:GREGORIAN
METHOD:PUBLISH
X-ORIGINAL-URL:https://ncprobono.org
X-WR-CALDESC:Events for North Carolina Pro Bono Resource Center
REFRESH-INTERVAL;VALUE=DURATION:PT1H
X-Robots-Tag:noindex
X-PUBLISHED-TTL:PT1H
BEGIN:VTIMEZONE
TZID:America/New_York
BEGIN:DAYLIGHT
TZOFFSETFROM:-0500
TZOFFSETTO:-0400
TZNAME:EDT
DTSTART:20180311T070000
END:DAYLIGHT
BEGIN:STANDARD
TZOFFSETFROM:-0400
TZOFFSETTO:-0500
TZNAME:EST
DTSTART:20181104T060000
END:STANDARD
BEGIN:DAYLIGHT
TZOFFSETFROM:-0500
TZOFFSETTO:-0400
TZNAME:EDT
DTSTART:20190310T070000
END:DAYLIGHT
BEGIN:STANDARD
TZOFFSETFROM:-0400
TZOFFSETTO:-0500
TZNAME:EST
DTSTART:20191103T060000
END:STANDARD
BEGIN:DAYLIGHT
TZOFFSETFROM:-0500
TZOFFSETTO:-0400
TZNAME:EDT
DTSTART:20200308T070000
END:DAYLIGHT
BEGIN:STANDARD
TZOFFSETFROM:-0400
TZOFFSETTO:-0500
TZNAME:EST
DTSTART:20201101T060000
END:STANDARD
END:VTIMEZONE
BEGIN:VEVENT
DTSTART;TZID=America/New_York:20190522T130000
DTEND;TZID=America/New_York:20190522T170000
DTSTAMP:20260421T153232
CREATED:20190417T183537Z
LAST-MODIFIED:20220214T211432Z
UID:10000089-1558530000-1558544400@ncprobono.org
SUMMARY:Fair Housing Law and Practice 2019
DESCRIPTION:This new program will provide an overview of the Fair Housing Act: what is prohibited\, what is covered\, and strategies for maximizing compliance. Faculty will cover topics such as advertising housing on social media\, disability discrimination issues\, including requests for reasonable accommodation\, and other contemporary issues under federal\, state and local fair housing laws.
URL:https://ncprobono.org/event/fair-housing-law-and-practice-2019/
LOCATION:Live Webcast\, NC\, US
CATEGORIES:All Events,Training Event
END:VEVENT
BEGIN:VEVENT
DTSTART;TZID=America/New_York:20190523T130000
DTEND;TZID=America/New_York:20190523T163000
DTSTAMP:20260421T153232
CREATED:20190417T183547Z
LAST-MODIFIED:20220214T211345Z
UID:10000090-1558616400-1558629000@ncprobono.org
SUMMARY:Prison Litigation 2019: Practical Strategies
DESCRIPTION:This program will focus on practical considerations when litigating cases concerning conditions of confinement and treatment of incarcerated individuals. Topics will include mental health and health services\, current issues under the Prison Litigation Reform Act (PLRA)\, and developments concerning pretrial detainees’ constitutional deprivation claims.
URL:https://ncprobono.org/event/prison-litigation-2019-practical-strategies/
LOCATION:Live Webcast\, NC\, US
CATEGORIES:All Events,Training Event
END:VEVENT
END:VCALENDAR