BEGIN:VCALENDAR
VERSION:2.0
PRODID:-//North Carolina Pro Bono Resource Center - ECPv6.15.11//NONSGML v1.0//EN
CALSCALE:GREGORIAN
METHOD:PUBLISH
X-WR-CALNAME:North Carolina Pro Bono Resource Center
X-ORIGINAL-URL:https://ncprobono.org
X-WR-CALDESC:Events for North Carolina Pro Bono Resource Center
REFRESH-INTERVAL;VALUE=DURATION:PT1H
X-Robots-Tag:noindex
X-PUBLISHED-TTL:PT1H
BEGIN:VTIMEZONE
TZID:America/New_York
BEGIN:DAYLIGHT
TZOFFSETFROM:-0500
TZOFFSETTO:-0400
TZNAME:EDT
DTSTART:20180311T070000
END:DAYLIGHT
BEGIN:STANDARD
TZOFFSETFROM:-0400
TZOFFSETTO:-0500
TZNAME:EST
DTSTART:20181104T060000
END:STANDARD
BEGIN:DAYLIGHT
TZOFFSETFROM:-0500
TZOFFSETTO:-0400
TZNAME:EDT
DTSTART:20190310T070000
END:DAYLIGHT
BEGIN:STANDARD
TZOFFSETFROM:-0400
TZOFFSETTO:-0500
TZNAME:EST
DTSTART:20191103T060000
END:STANDARD
BEGIN:DAYLIGHT
TZOFFSETFROM:-0500
TZOFFSETTO:-0400
TZNAME:EDT
DTSTART:20200308T070000
END:DAYLIGHT
BEGIN:STANDARD
TZOFFSETFROM:-0400
TZOFFSETTO:-0500
TZNAME:EST
DTSTART:20201101T060000
END:STANDARD
END:VTIMEZONE
BEGIN:VEVENT
DTSTART;TZID=America/New_York:20190430T120000
DTEND;TZID=America/New_York:20190430T133000
DTSTAMP:20260421T152636
CREATED:20190423T150756Z
LAST-MODIFIED:20220214T211500Z
UID:10000091-1556625600-1556631000@ncprobono.org
SUMMARY:Representing Tenants Facing Eviction
DESCRIPTION:Join the Charlotte Eviction Project and Legal Aid of North Carolina (LANC) for a continuing legal education program that will provide an overview of the legal remedies offered to pro bono clients subjected to unfair housing practices. Topics covered will include:\n• Client Intake and Review • Trial Preparation and Courthouse Procedures • Summary Ejectment Complaints • Common Defense Strategies • Small Claims Court\nFounded in 2018 the Charlotte Eviction Project works to outsource LANC cases at a high capacity to pro bono attorneys in the private bar. Volunteer attorneys support eligible LANC clients who are facing eviction or are living in inhabitable dwellings. To Register Contact Jenny Hudson at 704-331-3828 or jennyhudson@mvalaw.com.
URL:https://ncprobono.org/event/representing-tenants-facing-eviction/
LOCATION:Moore & Van Allen\, 100 North Tryon Street Suite 4600\, Charlotte\, NC\, 28202\, US
CATEGORIES:All Events,Training Event
END:VEVENT
END:VCALENDAR