BEGIN:VCALENDAR
VERSION:2.0
PRODID:-//North Carolina Pro Bono Resource Center - ECPv6.15.11//NONSGML v1.0//EN
CALSCALE:GREGORIAN
METHOD:PUBLISH
X-WR-CALNAME:North Carolina Pro Bono Resource Center
X-ORIGINAL-URL:https://ncprobono.org
X-WR-CALDESC:Events for North Carolina Pro Bono Resource Center
REFRESH-INTERVAL;VALUE=DURATION:PT1H
X-Robots-Tag:noindex
X-PUBLISHED-TTL:PT1H
BEGIN:VTIMEZONE
TZID:America/New_York
BEGIN:DAYLIGHT
TZOFFSETFROM:-0500
TZOFFSETTO:-0400
TZNAME:EDT
DTSTART:20170312T070000
END:DAYLIGHT
BEGIN:STANDARD
TZOFFSETFROM:-0400
TZOFFSETTO:-0500
TZNAME:EST
DTSTART:20171105T060000
END:STANDARD
BEGIN:DAYLIGHT
TZOFFSETFROM:-0500
TZOFFSETTO:-0400
TZNAME:EDT
DTSTART:20180311T070000
END:DAYLIGHT
BEGIN:STANDARD
TZOFFSETFROM:-0400
TZOFFSETTO:-0500
TZNAME:EST
DTSTART:20181104T060000
END:STANDARD
BEGIN:DAYLIGHT
TZOFFSETFROM:-0500
TZOFFSETTO:-0400
TZNAME:EDT
DTSTART:20190310T070000
END:DAYLIGHT
BEGIN:STANDARD
TZOFFSETFROM:-0400
TZOFFSETTO:-0500
TZNAME:EST
DTSTART:20191103T060000
END:STANDARD
END:VTIMEZONE
BEGIN:VEVENT
DTSTART;TZID=America/New_York:20181213T090000
DTEND;TZID=America/New_York:20181213T111000
DTSTAMP:20260421T083218
CREATED:20181212T211950Z
LAST-MODIFIED:20220214T211759Z
UID:10000086-1544691600-1544699400@ncprobono.org
SUMMARY:Ethical Issues in Pro Bono Representation 2018
DESCRIPTION:As part of PLI’s commitment to public service and the pro bono activities of the legal community\, there is no fee to attend this program. \nWhy You Should Attend\nUsing a lively\, interactive format\, this program will examine everyday issues of ethics and professional responsibility in pro bono and public interest practice. \nWhat You Will Learn\nWithin the context of pro bono representation\, using “all-new” hypotheticals as the basis of discussion\, this program will review how to handle ethical issues concerning: \n• Who is the client?\n• Confidentiality\, conflicts of interest\, and attorney-client privilege\n• Limited scope representation: how it works for both firm and in-house counsel\n• Representing clients with diminished capacity \nWho Should Attend\nAll attorneys working in nonprofit organizations and legal service organizations\, as well as those involved in pro bono practice in law firms and corporate legal departments.
URL:https://ncprobono.org/event/ethical-issues-in-pro-bono-representation-2018/
LOCATION:Webcast\, NC\, US
CATEGORIES:All Events,Training Event
END:VEVENT
BEGIN:VEVENT
DTSTART;TZID=America/New_York:20181213T133000
DTEND;TZID=America/New_York:20181213T170000
DTSTAMP:20260421T083218
CREATED:20181212T211923Z
LAST-MODIFIED:20220214T211731Z
UID:10000066-1544707800-1544720400@ncprobono.org
SUMMARY:Administrative Advocacy 2018: Representing the Pro Bono Client
DESCRIPTION:Why You Should Attend \nFaculty will discuss best practices as well as common challenges that can arise in administrative proceedings and useful strategies for handling those challenges. Practical skills – from preparing and examining witnesses to creating the record and introducing evidence – will be addressed. \nWhat You Will Learn \nOverview of forums\nRequesting hearings\nLocating and preparing witnesses\nPreparing your case\nUsing evidence\nStatements and briefs\nStriving to have your administrative proceeding resemble a legal proceeding\nCreating the record and looking toward a possible appeal\nUnderstanding Article 78 proceedings and judicial review\nBest practices and strategies\nWho Should Attend \nThis program is designed for pro bono\, legal services\, and public interest attorneys who provide representation for low income-clients involved in government benefits-related administrative proceedings\, including cases concerning public assistance\, social security\, unemployment insurance\, entitlement to special education services\, and housing assistance\, such as Section 8 or public housing. If you are currently handling or are interested in handling an administrative hearing on behalf of a pro bono or low-income client\, you will benefit from this program.
URL:https://ncprobono.org/event/administrative-advocacy-2018-representing-the-pro-bono-client/
LOCATION:Webcast\, NC\, US
CATEGORIES:All Events,Training Event
END:VEVENT
END:VCALENDAR