BEGIN:VCALENDAR
VERSION:2.0
PRODID:-//North Carolina Pro Bono Resource Center - ECPv6.15.11//NONSGML v1.0//EN
CALSCALE:GREGORIAN
METHOD:PUBLISH
X-WR-CALNAME:North Carolina Pro Bono Resource Center
X-ORIGINAL-URL:https://ncprobono.org
X-WR-CALDESC:Events for North Carolina Pro Bono Resource Center
REFRESH-INTERVAL;VALUE=DURATION:PT1H
X-Robots-Tag:noindex
X-PUBLISHED-TTL:PT1H
BEGIN:VTIMEZONE
TZID:America/New_York
BEGIN:DAYLIGHT
TZOFFSETFROM:-0500
TZOFFSETTO:-0400
TZNAME:EDT
DTSTART:20170312T070000
END:DAYLIGHT
BEGIN:STANDARD
TZOFFSETFROM:-0400
TZOFFSETTO:-0500
TZNAME:EST
DTSTART:20171105T060000
END:STANDARD
BEGIN:DAYLIGHT
TZOFFSETFROM:-0500
TZOFFSETTO:-0400
TZNAME:EDT
DTSTART:20180311T070000
END:DAYLIGHT
BEGIN:STANDARD
TZOFFSETFROM:-0400
TZOFFSETTO:-0500
TZNAME:EST
DTSTART:20181104T060000
END:STANDARD
BEGIN:DAYLIGHT
TZOFFSETFROM:-0500
TZOFFSETTO:-0400
TZNAME:EDT
DTSTART:20190310T070000
END:DAYLIGHT
BEGIN:STANDARD
TZOFFSETFROM:-0400
TZOFFSETTO:-0500
TZNAME:EST
DTSTART:20191103T060000
END:STANDARD
END:VTIMEZONE
BEGIN:VEVENT
DTSTART;TZID=America/New_York:20181115T100000
DTEND;TZID=America/New_York:20181115T140000
DTSTAMP:20260421T054430
CREATED:20181016T151849Z
LAST-MODIFIED:20220214T211821Z
UID:10000010-1542276000-1542290400@ncprobono.org
SUMMARY:How to Help Borrowers Struggling with Student Loan Debt
DESCRIPTION:Student loan debt is a growing crisis in North Carolina\, and demand for help for student loan borrowers far outstrips available resources. \nTarget Audience: Credit and housing counselors\, legal service providers\, and others working with borrowers in North Carolina who may be struggling with student loan debt. \nGoal: Equip direct service providers with the tools necessary to help student loan borrowers struggling with debt. Practitioners will learn the basics of student loan debt\, including types of student loans\, repayment options\, default\, discharge\, and strategies to deal with student loan servicers. \nAttendees will also learn how to spot potential legal issues\, network and share information with others who work directly with student loan borrowers\, and come away with practical\, tangible resources on how to help navigate the world of student loan debt. \nTrainers: UNC School of Law’s Consumer Financial Transactions Clinic\, under the direction of Kate Sablosky Elengold\, Clinical Associate Professor.
URL:https://ncprobono.org/event/how-to-help-borrowers-struggling-with-student-loan-debt/
LOCATION:MDC\, Downtown Durham\, NC\, US
CATEGORIES:All Events,Training Event
END:VEVENT
END:VCALENDAR