BEGIN:VCALENDAR
VERSION:2.0
PRODID:-//North Carolina Pro Bono Resource Center - ECPv6.15.11//NONSGML v1.0//EN
CALSCALE:GREGORIAN
METHOD:PUBLISH
X-WR-CALNAME:North Carolina Pro Bono Resource Center
X-ORIGINAL-URL:https://ncprobono.org
X-WR-CALDESC:Events for North Carolina Pro Bono Resource Center
REFRESH-INTERVAL;VALUE=DURATION:PT1H
X-Robots-Tag:noindex
X-PUBLISHED-TTL:PT1H
BEGIN:VTIMEZONE
TZID:America/New_York
BEGIN:DAYLIGHT
TZOFFSETFROM:-0500
TZOFFSETTO:-0400
TZNAME:EDT
DTSTART:20170312T070000
END:DAYLIGHT
BEGIN:STANDARD
TZOFFSETFROM:-0400
TZOFFSETTO:-0500
TZNAME:EST
DTSTART:20171105T060000
END:STANDARD
BEGIN:DAYLIGHT
TZOFFSETFROM:-0500
TZOFFSETTO:-0400
TZNAME:EDT
DTSTART:20180311T070000
END:DAYLIGHT
BEGIN:STANDARD
TZOFFSETFROM:-0400
TZOFFSETTO:-0500
TZNAME:EST
DTSTART:20181104T060000
END:STANDARD
BEGIN:DAYLIGHT
TZOFFSETFROM:-0500
TZOFFSETTO:-0400
TZNAME:EDT
DTSTART:20190310T070000
END:DAYLIGHT
BEGIN:STANDARD
TZOFFSETFROM:-0400
TZOFFSETTO:-0500
TZNAME:EST
DTSTART:20191103T060000
END:STANDARD
END:VTIMEZONE
BEGIN:VEVENT
DTSTART;TZID=America/New_York:20181101T090000
DTEND;TZID=America/New_York:20181101T111000
DTSTAMP:20260421T040337
CREATED:20180906T144138Z
LAST-MODIFIED:20220214T211843Z
UID:10000004-1541062800-1541070600@ncprobono.org
SUMMARY:Limited Scope Representation 2018: Ethical & Practical Challenges
DESCRIPTION:To respond to the access to justice crisis facing the legal system\, the civil legal services community and the judiciary have partnered in the expansion of services based on limited scope representation. As a community\, we have extensive experience now with limited scope representation models. Various models with many technology assisted interventions are being developed and information tables\, drop-in legal clinics\, websites and help lines have expanded. Limited Scope Representation 2018: Ethical & Practical Challenges will focus on how these models employ best practices to respond to common ethical issues and problems that arise. \nWhat You Will Learn:\n-Update on ethical issues in limited scope representation\, including communication\, scope\, competence\, candor before the tribunal\, ghostwriting and conflicts\n-Best practices to respond to the everyday ethics challenges in limited scope programs \nWho Should Attend:\n-Judiciary and court personnel interested in making sure there are adequate safeguards for unrepresented litigants seeking help from a limited scope representation program.\n-Attorney volunteers and law firm pro bono managers involved in limited scope representation programs
URL:https://ncprobono.org/event/limited-scope-representation-2018-ethical-practical-challenges/
LOCATION:Webcast\, NC\, US
CATEGORIES:All Events,Training Event
GEO:35.7595731;-79.0192997
END:VEVENT
END:VCALENDAR