BEGIN:VCALENDAR
VERSION:2.0
PRODID:-//North Carolina Pro Bono Resource Center - ECPv6.15.11//NONSGML v1.0//EN
CALSCALE:GREGORIAN
METHOD:PUBLISH
X-ORIGINAL-URL:https://ncprobono.org
X-WR-CALDESC:Events for North Carolina Pro Bono Resource Center
REFRESH-INTERVAL;VALUE=DURATION:PT1H
X-Robots-Tag:noindex
X-PUBLISHED-TTL:PT1H
BEGIN:VTIMEZONE
TZID:America/New_York
BEGIN:DAYLIGHT
TZOFFSETFROM:-0500
TZOFFSETTO:-0400
TZNAME:EDT
DTSTART:20170312T070000
END:DAYLIGHT
BEGIN:STANDARD
TZOFFSETFROM:-0400
TZOFFSETTO:-0500
TZNAME:EST
DTSTART:20171105T060000
END:STANDARD
BEGIN:DAYLIGHT
TZOFFSETFROM:-0500
TZOFFSETTO:-0400
TZNAME:EDT
DTSTART:20180311T070000
END:DAYLIGHT
BEGIN:STANDARD
TZOFFSETFROM:-0400
TZOFFSETTO:-0500
TZNAME:EST
DTSTART:20181104T060000
END:STANDARD
BEGIN:DAYLIGHT
TZOFFSETFROM:-0500
TZOFFSETTO:-0400
TZNAME:EDT
DTSTART:20190310T070000
END:DAYLIGHT
BEGIN:STANDARD
TZOFFSETFROM:-0400
TZOFFSETTO:-0500
TZNAME:EST
DTSTART:20191103T060000
END:STANDARD
END:VTIMEZONE
BEGIN:VEVENT
DTSTART;TZID=America/New_York:20181029T120000
DTEND;TZID=America/New_York:20181029T133000
DTSTAMP:20260421T042853
CREATED:20181016T151102Z
LAST-MODIFIED:20220214T212127Z
UID:10000008-1540814400-1540819800@ncprobono.org
SUMMARY:Pro Bono Volunteer Training: Disaster Housing Issues
DESCRIPTION:Currently\, there are 31 FEMA disaster-declared counties in North Carolina as a result of Hurricanes Florence and Michael. Through the Disaster Legal Services Hotline (1-833-242-3549) over 150 clients already have been paired with an attorney volunteer for disaster-related legal assistance. The vast majority of Hotline callers have questions and legal needs related to housing issues — landlord/tenant questions\, repairs\, and initial FEMA or insurance claims. \nDuring this training\, pro bono attorney volunteers will learn more about how best to assist Disaster Legal Services Hotline callers with housing-related questions and legal needs. The program speaker is Sarah K. Dixon\, Staff Attorney with Legal Aid of North Carolina. \nThere are a limited number of seats for the in-person training. An unlimited number of registrants can participate by webcast (a link to the webcast will be emailed to you upon registration). \nThis program is brought to you by the NC Bar Foundation\, the NC Pro Bono Resource Center\, and Legal Aid of North Carolina.
URL:https://ncprobono.org/event/pro-bono-volunteer-training-disaster-housing-issues/
LOCATION:GSK\, 410 Blackwell St.\, Durham\, North Carolina\, 27701
CATEGORIES:All Events,Training Event
END:VEVENT
END:VCALENDAR